BEGIN:VCALENDAR
VERSION:2.0
PRODID:-//NiceNSleazy - ECPv6.15.20//NONSGML v1.0//EN
CALSCALE:GREGORIAN
METHOD:PUBLISH
X-WR-CALNAME:NiceNSleazy
X-ORIGINAL-URL:https://www.nicensleazy.com
X-WR-CALDESC:Events for NiceNSleazy
REFRESH-INTERVAL;VALUE=DURATION:PT1H
X-Robots-Tag:noindex
X-PUBLISHED-TTL:PT1H
BEGIN:VTIMEZONE
TZID:Europe/London
BEGIN:DAYLIGHT
TZOFFSETFROM:+0000
TZOFFSETTO:+0100
TZNAME:BST
DTSTART:20230326T010000
END:DAYLIGHT
BEGIN:STANDARD
TZOFFSETFROM:+0100
TZOFFSETTO:+0000
TZNAME:GMT
DTSTART:20231029T010000
END:STANDARD
BEGIN:DAYLIGHT
TZOFFSETFROM:+0000
TZOFFSETTO:+0100
TZNAME:BST
DTSTART:20240331T010000
END:DAYLIGHT
BEGIN:STANDARD
TZOFFSETFROM:+0100
TZOFFSETTO:+0000
TZNAME:GMT
DTSTART:20241027T010000
END:STANDARD
BEGIN:DAYLIGHT
TZOFFSETFROM:+0000
TZOFFSETTO:+0100
TZNAME:BST
DTSTART:20250330T010000
END:DAYLIGHT
BEGIN:STANDARD
TZOFFSETFROM:+0100
TZOFFSETTO:+0000
TZNAME:GMT
DTSTART:20251026T010000
END:STANDARD
END:VTIMEZONE
BEGIN:VEVENT
DTSTART;TZID=Europe/London:20240113T230000
DTEND;TZID=Europe/London:20240114T030000
DTSTAMP:20260421T195214
CREATED:20240102T160438Z
LAST-MODIFIED:20240110T131340Z
UID:10000526-1705186800-1705201200@www.nicensleazy.com
SUMMARY:CLUB - PRECIOUS NOTHing FT. GABOR MATTY
DESCRIPTION:he’s back baby
URL:https://www.nicensleazy.com/event/club-precisou-nothing
CATEGORIES:Basement,Club
ATTACH;FMTTYPE=image/jpeg:https://www.nicensleazy.com/wp-content/uploads/2024/01/image_6487327.jpg
END:VEVENT
BEGIN:VEVENT
DTSTART;TZID=Europe/London:20240113T230000
DTEND;TZID=Europe/London:20240114T030000
DTSTAMP:20260421T195214
CREATED:20240102T160538Z
LAST-MODIFIED:20240102T160538Z
UID:10000527-1705186800-1705201200@www.nicensleazy.com
SUMMARY:BAR - adamantine chains
DESCRIPTION:
URL:https://www.nicensleazy.com/event/bar-adamantine-chains-2
CATEGORIES:Basement,Club
ATTACH;FMTTYPE=image/jpeg:https://www.nicensleazy.com/wp-content/uploads/2023/11/548C0151-EDE1-4905-9A9E-016EB3367472.jpg
END:VEVENT
END:VCALENDAR