BEGIN:VCALENDAR
VERSION:2.0
PRODID:-//NiceNSleazy - ECPv6.15.20//NONSGML v1.0//EN
CALSCALE:GREGORIAN
METHOD:PUBLISH
X-WR-CALNAME:NiceNSleazy
X-ORIGINAL-URL:https://www.nicensleazy.com
X-WR-CALDESC:Events for NiceNSleazy
REFRESH-INTERVAL;VALUE=DURATION:PT1H
X-Robots-Tag:noindex
X-PUBLISHED-TTL:PT1H
BEGIN:VTIMEZONE
TZID:Europe/London
BEGIN:DAYLIGHT
TZOFFSETFROM:+0000
TZOFFSETTO:+0100
TZNAME:BST
DTSTART:20220327T010000
END:DAYLIGHT
BEGIN:STANDARD
TZOFFSETFROM:+0100
TZOFFSETTO:+0000
TZNAME:GMT
DTSTART:20221030T010000
END:STANDARD
BEGIN:DAYLIGHT
TZOFFSETFROM:+0000
TZOFFSETTO:+0100
TZNAME:BST
DTSTART:20230326T010000
END:DAYLIGHT
BEGIN:STANDARD
TZOFFSETFROM:+0100
TZOFFSETTO:+0000
TZNAME:GMT
DTSTART:20231029T010000
END:STANDARD
BEGIN:DAYLIGHT
TZOFFSETFROM:+0000
TZOFFSETTO:+0100
TZNAME:BST
DTSTART:20240331T010000
END:DAYLIGHT
BEGIN:STANDARD
TZOFFSETFROM:+0100
TZOFFSETTO:+0000
TZNAME:GMT
DTSTART:20241027T010000
END:STANDARD
END:VTIMEZONE
BEGIN:VEVENT
DTSTART;TZID=Europe/London:20231027T230000
DTEND;TZID=Europe/London:20231028T030000
DTSTAMP:20260422T003218
CREATED:20231020T153730Z
LAST-MODIFIED:20231020T153730Z
UID:10000360-1698447600-1698462000@www.nicensleazy.com
SUMMARY:CLUB- FLOORSHOW WITH ANNABEL FRASER
DESCRIPTION:“Pagan playing in the flashing light In the violet hour to the violent sound”  \n27th October 11pm – Late Annabel Fraser (NTS / MIRE) \nGraveyard Shift – Gothic requiems\, synth pop oddities and industrial murk for night dwellers. \nNice N Sleazy 421 Sauchiehall St \n£5 OTD (Free before 11)
URL:https://www.nicensleazy.com/event/club-floorshow-with-annabel-fraser
CATEGORIES:Basement,Club
END:VEVENT
END:VCALENDAR