BEGIN:VCALENDAR
VERSION:2.0
PRODID:-//NiceNSleazy - ECPv6.15.20//NONSGML v1.0//EN
CALSCALE:GREGORIAN
METHOD:PUBLISH
X-ORIGINAL-URL:https://www.nicensleazy.com
X-WR-CALDESC:Events for NiceNSleazy
REFRESH-INTERVAL;VALUE=DURATION:PT1H
X-Robots-Tag:noindex
X-PUBLISHED-TTL:PT1H
BEGIN:VTIMEZONE
TZID:Europe/London
BEGIN:DAYLIGHT
TZOFFSETFROM:+0000
TZOFFSETTO:+0100
TZNAME:BST
DTSTART:20230326T010000
END:DAYLIGHT
BEGIN:STANDARD
TZOFFSETFROM:+0100
TZOFFSETTO:+0000
TZNAME:GMT
DTSTART:20231029T010000
END:STANDARD
BEGIN:DAYLIGHT
TZOFFSETFROM:+0000
TZOFFSETTO:+0100
TZNAME:BST
DTSTART:20240331T010000
END:DAYLIGHT
BEGIN:STANDARD
TZOFFSETFROM:+0100
TZOFFSETTO:+0000
TZNAME:GMT
DTSTART:20241027T010000
END:STANDARD
BEGIN:DAYLIGHT
TZOFFSETFROM:+0000
TZOFFSETTO:+0100
TZNAME:BST
DTSTART:20250330T010000
END:DAYLIGHT
BEGIN:STANDARD
TZOFFSETFROM:+0100
TZOFFSETTO:+0000
TZNAME:GMT
DTSTART:20251026T010000
END:STANDARD
END:VTIMEZONE
BEGIN:VEVENT
DTSTART;TZID=Europe/London:20240601T230000
DTEND;TZID=Europe/London:20240602T030000
DTSTAMP:20260421T123333
CREATED:20240507T182154Z
LAST-MODIFIED:20240507T182154Z
UID:10000771-1717282800-1717297200@www.nicensleazy.com
SUMMARY:CLUB- ACT NATURAL
DESCRIPTION:Act Natural is a club where the eyes & ears drive your rears. \nHustled into life by DJ\, producer & performer Baillie Jnr & DJ HuussH\, their prime manifesto is to fill the dance floor wall 2 wall with B-I-G FUN\, deliriously AND seriously. \nAct Natural’s aim is to deliver some exclusive production cuts and a dynamic visual aesthetic with bespoke lights and design. Hot dance dubs and vocal cuts with a twist – vibrating between Bonnie Tyler & Sylvester. There is something preposterous about it sure\, but it’s irresistibly FUN no matter what. \nPitching their rhythm nation across a timeline that runs 70’s – 20’s\, Act Natural is a jumping blend of Hi-NRG 80’s disco/ italo woven into 90’s house & electro – think scorchingly fresh Parisian club sounds bumping against gym-buffed 80’s stadium disco funk – but spun with a low-end bounce that SLAMS like sweating poppers! \nThere is no ‘natural’\, it’s ALL an act. Find your place\, to the BEAT.
URL:https://www.nicensleazy.com/event/club-act-natural-5
CATEGORIES:Basement,Club
ATTACH;FMTTYPE=image/webp:https://www.nicensleazy.com/wp-content/uploads/2024/05/e72fb5a212d7368fa1b75e553e9475dc70c23bee.webp
END:VEVENT
BEGIN:VEVENT
DTSTART;TZID=Europe/London:20240603T230000
DTEND;TZID=Europe/London:20240604T030000
DTSTAMP:20260421T123333
CREATED:20240520T144225Z
LAST-MODIFIED:20240520T144225Z
UID:10000784-1717455600-1717470000@www.nicensleazy.com
SUMMARY:SLEAZY KARAOKE
DESCRIPTION:Come sing along with our wonderful host Gloria!
URL:https://www.nicensleazy.com/event/sleazy-karaoke-49
CATEGORIES:Basement,Club
ATTACH;FMTTYPE=image/png:https://www.nicensleazy.com/wp-content/uploads/2023/11/11.00-PM-3.00-AM.png
END:VEVENT
BEGIN:VEVENT
DTSTART;TZID=Europe/London:20240607T230000
DTEND;TZID=Europe/London:20240608T030000
DTSTAMP:20260421T123333
CREATED:20240520T145825Z
LAST-MODIFIED:20240520T145846Z
UID:10000789-1717801200-1717815600@www.nicensleazy.com
SUMMARY:CLUB - FLOORSHOW
DESCRIPTION:
URL:https://www.nicensleazy.com/event/floorshow-2
CATEGORIES:Basement,Club
END:VEVENT
BEGIN:VEVENT
DTSTART;TZID=Europe/London:20240608T230000
DTEND;TZID=Europe/London:20240609T030000
DTSTAMP:20260421T123333
CREATED:20240520T150146Z
LAST-MODIFIED:20240520T150146Z
UID:10000791-1717887600-1717902000@www.nicensleazy.com
SUMMARY:CLUB - SHAKA LOVES YOU
DESCRIPTION:
URL:https://www.nicensleazy.com/event/club-shaka-loves-you-6
CATEGORIES:Basement,Club
ATTACH;FMTTYPE=image/jpeg:https://www.nicensleazy.com/wp-content/uploads/2023/05/AAA7FA40-82A8-4A31-8AE6-3BD5718EFD32.jpg
END:VEVENT
BEGIN:VEVENT
DTSTART;TZID=Europe/London:20240610T230000
DTEND;TZID=Europe/London:20240611T030000
DTSTAMP:20260421T123333
CREATED:20240520T144318Z
LAST-MODIFIED:20240520T144318Z
UID:10000785-1718060400-1718074800@www.nicensleazy.com
SUMMARY:SLEAZY KARAOKE
DESCRIPTION:Come sing along with our wonderful host Gloria!
URL:https://www.nicensleazy.com/event/sleazy-karaoke-50
CATEGORIES:Basement,Club
ATTACH;FMTTYPE=image/png:https://www.nicensleazy.com/wp-content/uploads/2023/11/11.00-PM-3.00-AM.png
END:VEVENT
BEGIN:VEVENT
DTSTART;TZID=Europe/London:20240614T230000
DTEND;TZID=Europe/London:20240615T030000
DTSTAMP:20260421T123333
CREATED:20240520T150410Z
LAST-MODIFIED:20240520T150410Z
UID:10000792-1718406000-1718420400@www.nicensleazy.com
SUMMARY:CLUB - DOMINO DANCING
DESCRIPTION:
URL:https://www.nicensleazy.com/event/club-domino-dancing-6
CATEGORIES:Basement,Club
ATTACH;FMTTYPE=image/jpeg:https://www.nicensleazy.com/wp-content/uploads/2024/01/domino-dancing-scaled.jpg
END:VEVENT
BEGIN:VEVENT
DTSTART;TZID=Europe/London:20240615T230000
DTEND;TZID=Europe/London:20240616T030000
DTSTAMP:20260421T123333
CREATED:20240520T151014Z
LAST-MODIFIED:20240520T151040Z
UID:10000795-1718492400-1718506800@www.nicensleazy.com
SUMMARY:CLUB - MANDALO
DESCRIPTION:
URL:https://www.nicensleazy.com/event/club-mandalo-2
CATEGORIES:Basement,Club
END:VEVENT
BEGIN:VEVENT
DTSTART;TZID=Europe/London:20240616T170000
DTEND;TZID=Europe/London:20240616T230000
DTSTAMP:20260421T123333
CREATED:20240520T151602Z
LAST-MODIFIED:20240520T151602Z
UID:10000796-1718557200-1718578800@www.nicensleazy.com
SUMMARY:CLUB - CONTAINER STUDIOS OPEN DECKS
DESCRIPTION:
URL:https://www.nicensleazy.com/event/club-container-studios-open-decks
CATEGORIES:Basement,Club
END:VEVENT
BEGIN:VEVENT
DTSTART;TZID=Europe/London:20240617T230000
DTEND;TZID=Europe/London:20240618T030000
DTSTAMP:20260421T123333
CREATED:20240520T144408Z
LAST-MODIFIED:20240520T144408Z
UID:10000786-1718665200-1718679600@www.nicensleazy.com
SUMMARY:SLEAZY KARAOKE
DESCRIPTION:Come sing along with our wonderful host Gloria!
URL:https://www.nicensleazy.com/event/sleazy-karaoke-51
CATEGORIES:Basement,Club
ATTACH;FMTTYPE=image/png:https://www.nicensleazy.com/wp-content/uploads/2023/11/11.00-PM-3.00-AM.png
END:VEVENT
BEGIN:VEVENT
DTSTART;TZID=Europe/London:20240621T230000
DTEND;TZID=Europe/London:20240622T030000
DTSTAMP:20260421T123333
CREATED:20240528T122105Z
LAST-MODIFIED:20240528T122234Z
UID:10000816-1719010800-1719025200@www.nicensleazy.com
SUMMARY:LATE NIGHT JAM SESSION - FERGUS MCCREADIE
DESCRIPTION:Glasgow Jazz Festival host the infamous Late Night Jam Sessions featuring some of the best musicians in the exploding Glasgow scene\, from 11pm until 3am every night of the festival. Each features a stellar line-up with the evening’s house trio chosen by the host. \nHosted by Fergus McCreadie \nFree entry \nOver 18’s only
URL:https://www.nicensleazy.com/event/late-night-jam-session-fergus-mccreadie
CATEGORIES:Basement,Club
ATTACH;FMTTYPE=image/png:https://www.nicensleazy.com/wp-content/uploads/2024/05/Screenshot-2024-05-28-at-13.20.16.png
END:VEVENT
BEGIN:VEVENT
DTSTART;TZID=Europe/London:20240623T230000
DTEND;TZID=Europe/London:20240624T030000
DTSTAMP:20260421T123333
CREATED:20240528T124740Z
LAST-MODIFIED:20240528T124920Z
UID:10000820-1719183600-1719198000@www.nicensleazy.com
SUMMARY:CLUB: BLOOM\, A TROYE SIVAL AFTERSHOW
DESCRIPTION:🩵 BLOOM 🩵\nTroye Sivan afterparty\nNICE N SLEAZY\n11PM-3AM\nFREE ENTRY \nTROYE\, CHARLI\, SOPHIE\, KIM\, NICKI\, AZEALIA\, ROSALIA\, BRITNEY\, KYLIE\, ALMA\, COBRAH\, PIERI\, RICO\, RINA\, TOVE + + \nUnder the Act Natural custom love lightbeams 🎆 \nDJ: Baillie Junior (Bossy Love)
URL:https://www.nicensleazy.com/event/club-bloom-a-troye-sival-aftershow
CATEGORIES:Basement,Club
ATTACH;FMTTYPE=image/png:https://www.nicensleazy.com/wp-content/uploads/2024/05/Screenshot-2024-05-28-at-13.36.26.png
END:VEVENT
BEGIN:VEVENT
DTSTART;TZID=Europe/London:20240624T230000
DTEND;TZID=Europe/London:20240625T030000
DTSTAMP:20260421T123333
CREATED:20240520T144502Z
LAST-MODIFIED:20240520T144502Z
UID:10000787-1719270000-1719284400@www.nicensleazy.com
SUMMARY:SLEAZY KARAOKE
DESCRIPTION:Come sing along with our wonderful host Gloria!
URL:https://www.nicensleazy.com/event/sleazy-karaoke-52
CATEGORIES:Basement,Club
ATTACH;FMTTYPE=image/png:https://www.nicensleazy.com/wp-content/uploads/2023/11/11.00-PM-3.00-AM.png
END:VEVENT
BEGIN:VEVENT
DTSTART;TZID=Europe/London:20240628T230000
DTEND;TZID=Europe/London:20240629T030000
DTSTAMP:20260421T123333
CREATED:20240521T174100Z
LAST-MODIFIED:20240521T174149Z
UID:10000800-1719615600-1719630000@www.nicensleazy.com
SUMMARY:CLUB - HOT FAT
DESCRIPTION:
URL:https://www.nicensleazy.com/event/club-hot-fat-8
CATEGORIES:Basement,Club
ATTACH;FMTTYPE=image/jpeg:https://www.nicensleazy.com/wp-content/uploads/2023/05/IMG_2720.jpg
END:VEVENT
BEGIN:VEVENT
DTSTART;TZID=Europe/London:20240629T230000
DTEND;TZID=Europe/London:20240630T030000
DTSTAMP:20260421T123333
CREATED:20240521T174403Z
LAST-MODIFIED:20240521T174403Z
UID:10000802-1719702000-1719716400@www.nicensleazy.com
SUMMARY:CLUB - BOOTYCALL
DESCRIPTION:
URL:https://www.nicensleazy.com/event/club-bootycall-8
CATEGORIES:Basement,Club
ATTACH;FMTTYPE=image/webp:https://www.nicensleazy.com/wp-content/uploads/2024/04/0880cdf8cf1bdf54bfd55b3b12d74a1e66da22e3.webp
END:VEVENT
BEGIN:VEVENT
DTSTART;TZID=Europe/London:20240630T230000
DTEND;TZID=Europe/London:20240701T030000
DTSTAMP:20260421T123333
CREATED:20240521T175351Z
LAST-MODIFIED:20240521T175351Z
UID:10000804-1719788400-1719802800@www.nicensleazy.com
SUMMARY:CLUB - FIGHT NIGHT
DESCRIPTION:
URL:https://www.nicensleazy.com/event/club-fight-night
CATEGORIES:Basement,Club
END:VEVENT
END:VCALENDAR