BEGIN:VCALENDAR
VERSION:2.0
PRODID:-//NiceNSleazy - ECPv6.15.20//NONSGML v1.0//EN
CALSCALE:GREGORIAN
METHOD:PUBLISH
X-WR-CALNAME:NiceNSleazy
X-ORIGINAL-URL:https://www.nicensleazy.com
X-WR-CALDESC:Events for NiceNSleazy
REFRESH-INTERVAL;VALUE=DURATION:PT1H
X-Robots-Tag:noindex
X-PUBLISHED-TTL:PT1H
BEGIN:VTIMEZONE
TZID:Europe/London
BEGIN:DAYLIGHT
TZOFFSETFROM:+0000
TZOFFSETTO:+0100
TZNAME:BST
DTSTART:20230326T010000
END:DAYLIGHT
BEGIN:STANDARD
TZOFFSETFROM:+0100
TZOFFSETTO:+0000
TZNAME:GMT
DTSTART:20231029T010000
END:STANDARD
BEGIN:DAYLIGHT
TZOFFSETFROM:+0000
TZOFFSETTO:+0100
TZNAME:BST
DTSTART:20240331T010000
END:DAYLIGHT
BEGIN:STANDARD
TZOFFSETFROM:+0100
TZOFFSETTO:+0000
TZNAME:GMT
DTSTART:20241027T010000
END:STANDARD
BEGIN:DAYLIGHT
TZOFFSETFROM:+0000
TZOFFSETTO:+0100
TZNAME:BST
DTSTART:20250330T010000
END:DAYLIGHT
BEGIN:STANDARD
TZOFFSETFROM:+0100
TZOFFSETTO:+0000
TZNAME:GMT
DTSTART:20251026T010000
END:STANDARD
END:VTIMEZONE
BEGIN:VEVENT
DTSTART;TZID=Europe/London:20240105T230000
DTEND;TZID=Europe/London:20240106T030000
DTSTAMP:20260421T181534
CREATED:20240102T150857Z
LAST-MODIFIED:20240102T151012Z
UID:10000517-1704495600-1704510000@www.nicensleazy.com
SUMMARY:CLUB - adamantine chains
DESCRIPTION:In the club tonight! \nNew Beat / Synth pop / House
URL:https://www.nicensleazy.com/event/adamantine-chains-3
CATEGORIES:Basement,Club
ATTACH;FMTTYPE=image/jpeg:https://www.nicensleazy.com/wp-content/uploads/2023/11/548C0151-EDE1-4905-9A9E-016EB3367472.jpg
END:VEVENT
BEGIN:VEVENT
DTSTART;TZID=Europe/London:20240106T230000
DTEND;TZID=Europe/London:20240107T030000
DTSTAMP:20260421T181534
CREATED:20240102T152150Z
LAST-MODIFIED:20240109T154102Z
UID:10000520-1704582000-1704596400@www.nicensleazy.com
SUMMARY:CLUB - joints 'n' jams
DESCRIPTION:Welcome to Joints n’ Jams! \nExpertly curating an eclectic selection of Disco\, House and funk and mixed with tight live percussion\, Shaka Loves You creates the perfect house party vibe!
URL:https://www.nicensleazy.com/event/club-joints-n-jams
CATEGORIES:Basement,Club
ATTACH;FMTTYPE=image/jpeg:https://www.nicensleazy.com/wp-content/uploads/2023/05/AAA7FA40-82A8-4A31-8AE6-3BD5718EFD32.jpg
END:VEVENT
BEGIN:VEVENT
DTSTART;TZID=Europe/London:20240112T230000
DTEND;TZID=Europe/London:20240113T030000
DTSTAMP:20260421T181534
CREATED:20240102T160344Z
LAST-MODIFIED:20240102T162537Z
UID:10000525-1705100400-1705114800@www.nicensleazy.com
SUMMARY:CLUB - domino dancing
DESCRIPTION:Brand new club night from the angels behind Queer Theory!! get your dancing shoes on x
URL:https://www.nicensleazy.com/event/club-domino-dancing
CATEGORIES:Basement,Club
ATTACH;FMTTYPE=image/jpeg:https://www.nicensleazy.com/wp-content/uploads/2024/01/domino-dancing-scaled.jpg
END:VEVENT
BEGIN:VEVENT
DTSTART;TZID=Europe/London:20240113T230000
DTEND;TZID=Europe/London:20240114T030000
DTSTAMP:20260421T181534
CREATED:20240102T160438Z
LAST-MODIFIED:20240110T131340Z
UID:10000526-1705186800-1705201200@www.nicensleazy.com
SUMMARY:CLUB - PRECIOUS NOTHing FT. GABOR MATTY
DESCRIPTION:he’s back baby
URL:https://www.nicensleazy.com/event/club-precisou-nothing
CATEGORIES:Basement,Club
ATTACH;FMTTYPE=image/jpeg:https://www.nicensleazy.com/wp-content/uploads/2024/01/image_6487327.jpg
END:VEVENT
BEGIN:VEVENT
DTSTART;TZID=Europe/London:20240113T230000
DTEND;TZID=Europe/London:20240114T030000
DTSTAMP:20260421T181534
CREATED:20240102T160538Z
LAST-MODIFIED:20240102T160538Z
UID:10000527-1705186800-1705201200@www.nicensleazy.com
SUMMARY:BAR - adamantine chains
DESCRIPTION:
URL:https://www.nicensleazy.com/event/bar-adamantine-chains-2
CATEGORIES:Basement,Club
ATTACH;FMTTYPE=image/jpeg:https://www.nicensleazy.com/wp-content/uploads/2023/11/548C0151-EDE1-4905-9A9E-016EB3367472.jpg
END:VEVENT
BEGIN:VEVENT
DTSTART;TZID=Europe/London:20240115T230000
DTEND;TZID=Europe/London:20240116T030000
DTSTAMP:20260421T181534
CREATED:20240102T114140Z
LAST-MODIFIED:20240102T114140Z
UID:10000489-1705359600-1705374000@www.nicensleazy.com
SUMMARY:SLEAZY KARAOKE
DESCRIPTION:Join our amazing host Gloria every Monday to sing your absolute hearts away x
URL:https://www.nicensleazy.com/event/sleazy-karaoke-28
CATEGORIES:Basement,Club
ATTACH;FMTTYPE=image/png:https://www.nicensleazy.com/wp-content/uploads/2023/11/11.00-PM-3.00-AM.png
END:VEVENT
BEGIN:VEVENT
DTSTART;TZID=Europe/London:20240119T230000
DTEND;TZID=Europe/London:20240120T030000
DTSTAMP:20260421T181534
CREATED:20240102T161922Z
LAST-MODIFIED:20240102T161922Z
UID:10000530-1705705200-1705719600@www.nicensleazy.com
SUMMARY:CLUB - lance vance dance
DESCRIPTION:get ready for the grooviest night in Glasgow !! \nLance Vance Dance will take you on a journey from start to finish. Expect bops\, dancing and A SHOW
URL:https://www.nicensleazy.com/event/club-lance-vance-dance-3
CATEGORIES:Basement,Club
ATTACH;FMTTYPE=image/webp:https://www.nicensleazy.com/wp-content/uploads/2023/12/7e453bafeb9519f3d7f320c542028f37b2e1ee85.webp
END:VEVENT
BEGIN:VEVENT
DTSTART;TZID=Europe/London:20240120T230000
DTEND;TZID=Europe/London:20240121T030000
DTSTAMP:20260421T181534
CREATED:20240102T162335Z
LAST-MODIFIED:20240109T155242Z
UID:10000532-1705791600-1705806000@www.nicensleazy.com
SUMMARY:CLUB - HOT FAT
DESCRIPTION:‘Glasgow party legends Fantastic Man bring you Hot Fat – house\, hip-hop\, bass\, trap\, techno\, and everything in-between – sweaty and sexy and disgusting.’
URL:https://www.nicensleazy.com/event/club-amanda-eve-2
CATEGORIES:Basement,Club
ATTACH;FMTTYPE=image/png:https://www.nicensleazy.com/wp-content/uploads/2024/01/hot-fat-jan-24.png
END:VEVENT
BEGIN:VEVENT
DTSTART;TZID=Europe/London:20240122T230000
DTEND;TZID=Europe/London:20240123T030000
DTSTAMP:20260421T181534
CREATED:20240102T115633Z
LAST-MODIFIED:20240102T115633Z
UID:10000490-1705964400-1705978800@www.nicensleazy.com
SUMMARY:SLEAZY KARAOKE
DESCRIPTION:Join our amazing host Gloria every Monday to sing your absolute hearts away x
URL:https://www.nicensleazy.com/event/sleazy-karaoke-29
CATEGORIES:Basement,Club
ATTACH;FMTTYPE=image/png:https://www.nicensleazy.com/wp-content/uploads/2023/11/11.00-PM-3.00-AM.png
END:VEVENT
BEGIN:VEVENT
DTSTART;TZID=Europe/London:20240126T230000
DTEND;TZID=Europe/London:20240127T030000
DTSTAMP:20260421T181534
CREATED:20240102T162941Z
LAST-MODIFIED:20240109T155222Z
UID:10000534-1706310000-1706324400@www.nicensleazy.com
SUMMARY:CLUB - FLOORSHOW
DESCRIPTION:“Pagan playing in the flashing light\nIn the violet hour to the violent sound” \nGothic requiems\, synth pop oddities and industrial murk for night dwellers.
URL:https://www.nicensleazy.com/event/club-floorshow
CATEGORIES:Basement,Club
ATTACH;FMTTYPE=image/png:https://www.nicensleazy.com/wp-content/uploads/2024/01/GRAVEYARD-SHIFT-JAN.png
END:VEVENT
BEGIN:VEVENT
DTSTART;TZID=Europe/London:20240127T230000
DTEND;TZID=Europe/London:20240128T030000
DTSTAMP:20260421T181534
CREATED:20240102T163259Z
LAST-MODIFIED:20240102T163259Z
UID:10000536-1706396400-1706410800@www.nicensleazy.com
SUMMARY:CLUB - bootycall
DESCRIPTION:wait… \nyou’re up late too? come along for some late night naughtiness in the sleazy basement x
URL:https://www.nicensleazy.com/event/club-bootycall-3
CATEGORIES:Basement,Club
END:VEVENT
BEGIN:VEVENT
DTSTART;TZID=Europe/London:20240129T230000
DTEND;TZID=Europe/London:20240130T030000
DTSTAMP:20260421T181534
CREATED:20240102T115717Z
LAST-MODIFIED:20240102T115717Z
UID:10000491-1706569200-1706583600@www.nicensleazy.com
SUMMARY:SLEAZY KARAOKE
DESCRIPTION:Join our amazing host Gloria every Monday to sing your absolute hearts away x
URL:https://www.nicensleazy.com/event/sleazy-karaoke-30
CATEGORIES:Basement,Club
ATTACH;FMTTYPE=image/png:https://www.nicensleazy.com/wp-content/uploads/2023/11/11.00-PM-3.00-AM.png
END:VEVENT
END:VCALENDAR