BEGIN:VCALENDAR
VERSION:2.0
PRODID:-//NiceNSleazy - ECPv6.15.20//NONSGML v1.0//EN
CALSCALE:GREGORIAN
METHOD:PUBLISH
X-ORIGINAL-URL:https://www.nicensleazy.com
X-WR-CALDESC:Events for NiceNSleazy
REFRESH-INTERVAL;VALUE=DURATION:PT1H
X-Robots-Tag:noindex
X-PUBLISHED-TTL:PT1H
BEGIN:VTIMEZONE
TZID:Europe/London
BEGIN:DAYLIGHT
TZOFFSETFROM:+0000
TZOFFSETTO:+0100
TZNAME:BST
DTSTART:20220327T010000
END:DAYLIGHT
BEGIN:STANDARD
TZOFFSETFROM:+0100
TZOFFSETTO:+0000
TZNAME:GMT
DTSTART:20221030T010000
END:STANDARD
BEGIN:DAYLIGHT
TZOFFSETFROM:+0000
TZOFFSETTO:+0100
TZNAME:BST
DTSTART:20230326T010000
END:DAYLIGHT
BEGIN:STANDARD
TZOFFSETFROM:+0100
TZOFFSETTO:+0000
TZNAME:GMT
DTSTART:20231029T010000
END:STANDARD
BEGIN:DAYLIGHT
TZOFFSETFROM:+0000
TZOFFSETTO:+0100
TZNAME:BST
DTSTART:20240331T010000
END:DAYLIGHT
BEGIN:STANDARD
TZOFFSETFROM:+0100
TZOFFSETTO:+0000
TZNAME:GMT
DTSTART:20241027T010000
END:STANDARD
BEGIN:DAYLIGHT
TZOFFSETFROM:+0000
TZOFFSETTO:+0100
TZNAME:BST
DTSTART:20250330T010000
END:DAYLIGHT
BEGIN:STANDARD
TZOFFSETFROM:+0100
TZOFFSETTO:+0000
TZNAME:GMT
DTSTART:20251026T010000
END:STANDARD
END:VTIMEZONE
BEGIN:VEVENT
DTSTART;TZID=Europe/London:20231201T073000
DTEND;TZID=Europe/London:20231202T030000
DTSTAMP:20260421T195129
CREATED:20231121T121925Z
LAST-MODIFIED:20231129T144732Z
UID:10000413-1701415800-1701486000@www.nicensleazy.com
SUMMARY:QUEER THEORY: BENTEST OF BENTS
DESCRIPTION:“Come all ye lovers and affairs\,\nSingles\, discrete souls\, and bears\,\nStraightest of straights\, bentest of bents\,\nCarbolic scrub\, Armani scents\,\nDoc Martens girls\, minikilt boys\,\nBuyers of exotic toys\,\nOpera queens\, ballet queens\,\nAnd all the hesitant in-betweens\,\nTrendsetters and anoraks\,\nUnderdogs looking for whacks\,\nIndomitably spring-heeled dykes\nSweeping up on mountain bikes\,\nJessies with attitude\, closet cases\,\nSolicitors with bright red braces\,\nLevis with a coloured hanky\nTo signal the right hanky-panky\,\nLurex and Spandex and other ex-es\nTo mix the senses and the sexes”\nPoem by Edwin Morgan on the opening of the Glasgow Gay and Lesbian Centre\, 4 November 1995 \nCABARET 7.30-11\nTom Harlow (host) @harlowboylesque\nJunk Pups (pup-rock quartet) @junkpups\nAngel Beads (drag) @angelbeadsxo\nNiki Rush (dance / performance art) @nikirushxo\nJude Judith Arrabiata (performance art) @violetveee\nTom Whiston (comedy) @tomwhistom\nSara Mostafa (poetry) @portraitofsara \nDJs 11-3\nEevit_a (electro / techno / house) @eevit_a\nOberon White (Hi-NRG / new wave / disco / house) @iamoberonwhite \nPOSTER COMPETITION\nWe are offering one year’s free entry to Queer Theory to the first person to name every icon on our poster! Message us with your answers ✨
URL:https://www.nicensleazy.com/event/queer-theory-bentest-of-bents
CATEGORIES:Basement,Club,Gig
ATTACH;FMTTYPE=image/jpeg:https://www.nicensleazy.com/wp-content/uploads/2023/11/Web-capture_21-11-2023_121618_www.instagram.com_.jpeg
END:VEVENT
BEGIN:VEVENT
DTSTART;TZID=Europe/London:20231201T230000
DTEND;TZID=Europe/London:20231202T030000
DTSTAMP:20260421T195129
CREATED:20231130T105418Z
LAST-MODIFIED:20231130T105418Z
UID:10000448-1701471600-1701486000@www.nicensleazy.com
SUMMARY:CLUB- BENTEST OF BENTS
DESCRIPTION:Subversive cabaret show featuring live music\, drag\, performance art\, spoken word & comedy\, followed by queer dance party! “Come all ye lovers and affairs\, Singles\, discrete souls\, and bears\, Straightest of straights\, bentest of bents\, Carbolic scrub\, Armani scents\, Doc Martens girls\, minikilt boys\, Buyers of exotic toys\, Opera queens\, ballet queens\, And all the hesitant in-betweens\, Trendsetters and anoraks\, Underdogs looking for whacks\, Indomitably spring-heeled dykes Sweeping up on mountain bikes\, Jessies with attitude\, closet cases\, Solicitors with bright red braces\, Levis with a coloured hanky To signal the right hanky-panky\, Lurex and Spandex and other ex-es To mix the senses and the sexes” Poem by Edwin Morgan on the opening of the Glasgow Gay and Lesbian Centre\, 4 November 1995 CABARET 7.30-11 DJs 11-3 POSTER COMPETITION We are offering one year’s free entry to Queer Theory to the first person to name every icon on our poster! Email queertheoryglasgow@gmail.com with your answers Venue accessibility: we are using the basement venue that is only accessible by stairs. Nice n Sleazy’s toilets are gender neutral. The venue has a safe space policy and will have a safe spaces rep working on the event. If you have any questions at all\, please don’t hesitate to get in touch at queertheoryglasgow@gmail.com
URL:https://www.nicensleazy.com/event/club-bentest-of-bents
CATEGORIES:Basement,Club
ATTACH;FMTTYPE=image/webp:https://www.nicensleazy.com/wp-content/uploads/2023/11/d3534d42f8b3d0cab9bfd057f6690aa9d87b716e.webp
END:VEVENT
BEGIN:VEVENT
DTSTART;TZID=Europe/London:20231202T230000
DTEND;TZID=Europe/London:20231203T030000
DTSTAMP:20260421T195129
CREATED:20231130T110021Z
LAST-MODIFIED:20231130T110021Z
UID:10000450-1701558000-1701572400@www.nicensleazy.com
SUMMARY:CLUB- CROWDED FLAT
DESCRIPTION:A night of dance\, hard groove and garage. \n  \n 
URL:https://www.nicensleazy.com/event/club-crowded-flat
CATEGORIES:Basement,Club
ATTACH;FMTTYPE=image/webp:https://www.nicensleazy.com/wp-content/uploads/2023/11/e4a617f9eb2750706405f543ed83dc9541fc628d.webp
END:VEVENT
BEGIN:VEVENT
DTSTART;TZID=Europe/London:20231204T230000
DTEND;TZID=Europe/London:20231205T030000
DTSTAMP:20260421T195129
CREATED:20231129T151803Z
LAST-MODIFIED:20231129T151803Z
UID:10000440-1701730800-1701745200@www.nicensleazy.com
SUMMARY:SLEAZY KARAOKE
DESCRIPTION:This one is just for fun. x
URL:https://www.nicensleazy.com/event/sleazy-karaoke-23
CATEGORIES:Basement,Club
ATTACH;FMTTYPE=image/png:https://www.nicensleazy.com/wp-content/uploads/2023/11/11.00-PM-3.00-AM.png
END:VEVENT
BEGIN:VEVENT
DTSTART;TZID=Europe/London:20231209T230000
DTEND;TZID=Europe/London:20231210T030000
DTSTAMP:20260421T195129
CREATED:20231020T152423Z
LAST-MODIFIED:20231130T111917Z
UID:10000358-1702162800-1702177200@www.nicensleazy.com
SUMMARY:CLUB- SHAKA LOVES YOU
DESCRIPTION:SHAKA LOVES YOU COMES BACK IN TO THE CLUB FOR ANOTHER EDITION OF THEIR HALLOWED “JOINTS N JAMS”
URL:https://www.nicensleazy.com/event/club-shaka-loves-you-3
CATEGORIES:Basement,Club
ATTACH;FMTTYPE=image/jpeg:https://www.nicensleazy.com/wp-content/uploads/2023/05/AAA7FA40-82A8-4A31-8AE6-3BD5718EFD32.jpg
END:VEVENT
BEGIN:VEVENT
DTSTART;TZID=Europe/London:20231211T230000
DTEND;TZID=Europe/London:20231212T030000
DTSTAMP:20260421T195129
CREATED:20231129T151841Z
LAST-MODIFIED:20231129T151841Z
UID:10000441-1702335600-1702350000@www.nicensleazy.com
SUMMARY:SLEAZY KARAOKE
DESCRIPTION:This one is just for fun. x
URL:https://www.nicensleazy.com/event/sleazy-karaoke-24
CATEGORIES:Basement,Club
ATTACH;FMTTYPE=image/png:https://www.nicensleazy.com/wp-content/uploads/2023/11/11.00-PM-3.00-AM.png
END:VEVENT
BEGIN:VEVENT
DTSTART;TZID=Europe/London:20231216T230000
DTEND;TZID=Europe/London:20231217T040000
DTSTAMP:20260421T195129
CREATED:20231211T014612Z
LAST-MODIFIED:20231211T014612Z
UID:10000459-1702767600-1702785600@www.nicensleazy.com
SUMMARY:CLUB- PRECIOUS NOTHING WITH PETAL
DESCRIPTION:London-based broken beat\, garage and house selector Petal is back in the city with a big bag of records to go butt2butt all night with resident Aka_Siro_DJ. \nExpect deep grooves\, progressively abrupt garage chops (hiiiyah) and driving kicks all night. \nA late 4am licence\, but with the power of friendship – we’ll all make it.
URL:https://www.nicensleazy.com/event/club-precious-nothing-with-petal
CATEGORIES:Basement,Club
ATTACH;FMTTYPE=image/webp:https://www.nicensleazy.com/wp-content/uploads/2023/12/9c6834cca0bc403a4237a0c81d159be226f20988.webp
END:VEVENT
BEGIN:VEVENT
DTSTART;TZID=Europe/London:20231218T230000
DTEND;TZID=Europe/London:20231219T030000
DTSTAMP:20260421T195129
CREATED:20231129T151932Z
LAST-MODIFIED:20231129T151932Z
UID:10000442-1702940400-1702954800@www.nicensleazy.com
SUMMARY:SLEAZY KARAOKE
DESCRIPTION:This one is just for fun. x
URL:https://www.nicensleazy.com/event/sleazy-karaoke-25
CATEGORIES:Basement,Club
ATTACH;FMTTYPE=image/png:https://www.nicensleazy.com/wp-content/uploads/2023/11/11.00-PM-3.00-AM.png
END:VEVENT
BEGIN:VEVENT
DTSTART;TZID=Europe/London:20231220T210000
DTEND;TZID=Europe/London:20231221T020000
DTSTAMP:20260421T195129
CREATED:20231120T123819Z
LAST-MODIFIED:20231129T134023Z
UID:10000412-1703106000-1703124000@www.nicensleazy.com
SUMMARY:KICKIN' IT WITH KITTI: X-MAS SPECIAL
DESCRIPTION:kitti quickly made a name for herself in the local music scene\, performing at small venues and clubs around the city. kitti’s voice evokes deep emotion and touches the heart of the listener. She has a voice that has the power to move people to tears\, to uplift their spirits\, and to transport them to another world\, and with this she soon began to attract the attention of like-minded musicians\, who would quickly become her core band.\nkitti gained 2 awards for her work in 2020 – that of “Best Female Breakthrough” at the Scottish Music Awards and “Best Jazz Vocalist” at the Scottish Jazz Awards\, which she won once again in 2022. She has also supported the iconic Mavis Staples and Van Morrison in 2022 – and Rod Stewart at his Edinburgh Castle shows in 2023.\nkitti’s live shows and recent recordings ooze complete authenticity and individuality. She promises an electric experience that engages all the senses and leaves you feeling exhilarated and inspired. kitti and her band pour every ounce of their hearts and souls into every note played\, forcing audiences to feel the emotion behind the writing. “playing live is what I was born to do!” says kitti. \nWith her greatly anticipated debut album set to be released later next year\, she’s already making waves in Scotland\, and beyond.
URL:https://www.nicensleazy.com/event/kickin-it-with-kitti-x-mas-special
CATEGORIES:Basement,Gig
ATTACH;FMTTYPE=image/jpeg:https://www.nicensleazy.com/wp-content/uploads/2023/11/image_6483441-5.jpg
END:VEVENT
BEGIN:VEVENT
DTSTART;TZID=Europe/London:20231223T230000
DTEND;TZID=Europe/London:20231224T040000
DTSTAMP:20260421T195129
CREATED:20231211T015132Z
LAST-MODIFIED:20231211T015536Z
UID:10000461-1703372400-1703390400@www.nicensleazy.com
SUMMARY:CLUB- DISCOUNT DISCO
DESCRIPTION:Funky tunes and immaculate vibes
URL:https://www.nicensleazy.com/event/club-discount-disco-2
CATEGORIES:Basement,Club
ATTACH;FMTTYPE=application/pdf:https://www.nicensleazy.com/wp-content/uploads/2023/12/Discount-Disco-December-.pdf
END:VEVENT
BEGIN:VEVENT
DTSTART;TZID=Europe/London:20231225T230000
DTEND;TZID=Europe/London:20231225T230000
DTSTAMP:20260421T195129
CREATED:20231129T152012Z
LAST-MODIFIED:20231129T152012Z
UID:10000443-1703545200-1703545200@www.nicensleazy.com
SUMMARY:SLEAZY KARAOKE
DESCRIPTION:This one is just for fun. x
URL:https://www.nicensleazy.com/event/sleazy-karaoke-26
CATEGORIES:Basement,Club
ATTACH;FMTTYPE=image/png:https://www.nicensleazy.com/wp-content/uploads/2023/11/11.00-PM-3.00-AM.png
END:VEVENT
BEGIN:VEVENT
DTSTART;TZID=Europe/London:20231228T230000
DTEND;TZID=Europe/London:20231229T040000
DTSTAMP:20260421T195129
CREATED:20231211T015421Z
LAST-MODIFIED:20231211T015421Z
UID:10000463-1703804400-1703822400@www.nicensleazy.com
SUMMARY:CLUB- MANDALO AFTER DARK
DESCRIPTION:Mándalo After Dark Mándalo bring another amazing line up of local artists from all walks of life. \nStarting off the night is the amazing Charlotte Tuesday who brings her floor filling Disco and Italo belturs. \nNext up is Talkless boys\, bringing a blend off UK club sound to rare Disco cuts\, an absolute mixed bag. \nMándalo residents Max Hammur and Monoot bring their collection of old school House\, Italo and Afro secrets. \nFinally\, the amazing Hijack who will bring their blends off all things UK and US Garage / House influences.
URL:https://www.nicensleazy.com/event/club-mandalo-after-dark
CATEGORIES:Basement,Club
ATTACH;FMTTYPE=image/webp:https://www.nicensleazy.com/wp-content/uploads/2023/12/8b2f064a7b2025b654c2fd776393cf789ba76ee8.webp
END:VEVENT
BEGIN:VEVENT
DTSTART;TZID=Europe/London:20231229T230000
DTEND;TZID=Europe/London:20231230T040000
DTSTAMP:20260421T195129
CREATED:20231211T015234Z
LAST-MODIFIED:20231211T015234Z
UID:10000462-1703890800-1703908800@www.nicensleazy.com
SUMMARY:CLUB- LANCE VANCE DANCE
DESCRIPTION:Dangerous\, Disco\, Daliances\, in your favourite Sleazy basement….. XOXOXOXOXOX
URL:https://www.nicensleazy.com/event/club-lance-vance-dance-2
CATEGORIES:Basement,Club
ATTACH;FMTTYPE=image/webp:https://www.nicensleazy.com/wp-content/uploads/2023/12/7e453bafeb9519f3d7f320c542028f37b2e1ee85.webp
END:VEVENT
BEGIN:VEVENT
DTSTART;TZID=Europe/London:20231231T200000
DTEND;TZID=Europe/London:20240101T040000
DTSTAMP:20260421T195129
CREATED:20231122T122210Z
LAST-MODIFIED:20231122T122210Z
UID:10000425-1704052800-1704081600@www.nicensleazy.com
SUMMARY:DROP THE BALL: NYE PARTY
DESCRIPTION:Come celebrate the bells with us at Nice N Sleazy this year! \nWe are happy to welcome Falasgair back this year\, from 8PM for another TRADITIONAL SCOTTISH TAKEOVER \nGet ready to dance the night away with our residnt DJ’s!! \nAt The Bar:\n\nPrecious Nothing\nKid Gorgeous\n\nIn The Club:\n\nT.D. Slider\nCarmen Baia\nJenn Gunn
URL:https://www.nicensleazy.com/event/drop-the-ball-nye-party
CATEGORIES:Bar,Basement,Club,Gig
ATTACH;FMTTYPE=image/jpeg:https://www.nicensleazy.com/wp-content/uploads/2023/11/Web-capture_22-11-2023_121958_lh3.googleusercontent.com_.jpeg
END:VEVENT
BEGIN:VEVENT
DTSTART;TZID=Europe/London:20231231T230000
DTEND;TZID=Europe/London:20240101T040000
DTSTAMP:20260421T195129
CREATED:20231130T110334Z
LAST-MODIFIED:20231130T110334Z
UID:10000451-1704063600-1704081600@www.nicensleazy.com
SUMMARY:CLUB- DROP THE BALL
DESCRIPTION:At The Bar:\n Precious Nothing \nKid Gorgeous \n\nIn The Club: \nT.D. Slider \nCarmen Baia \nJenn Gunn\n\n\n\n\n\n\n\n\n\n\n\n\n\n\n\n\n\n\n\n\n\n\n\n\n\n\n\n\n\n\n\n\n\n\nCome celebrate the bells with us at Nice N Sleazy this year!\n\nWe are happy to welcome Falasgair back this year\, from 8PM for another TRADITIONAL SCOTTISH TAKEOVER \n\nGet ready to dance the night away with our residnt DJ’s!!
URL:https://www.nicensleazy.com/event/club-drop-the-ball
CATEGORIES:Bar,Basement,Club
ATTACH;FMTTYPE=image/webp:https://www.nicensleazy.com/wp-content/uploads/2023/11/f8797c9b4f38deae733191ba990fbdd31ba3c465.webp
END:VEVENT
END:VCALENDAR