BEGIN:VCALENDAR
VERSION:2.0
PRODID:-//NiceNSleazy - ECPv6.15.20//NONSGML v1.0//EN
CALSCALE:GREGORIAN
METHOD:PUBLISH
X-ORIGINAL-URL:https://www.nicensleazy.com
X-WR-CALDESC:Events for NiceNSleazy
REFRESH-INTERVAL;VALUE=DURATION:PT1H
X-Robots-Tag:noindex
X-PUBLISHED-TTL:PT1H
BEGIN:VTIMEZONE
TZID:Europe/London
BEGIN:DAYLIGHT
TZOFFSETFROM:+0000
TZOFFSETTO:+0100
TZNAME:BST
DTSTART:20220327T010000
END:DAYLIGHT
BEGIN:STANDARD
TZOFFSETFROM:+0100
TZOFFSETTO:+0000
TZNAME:GMT
DTSTART:20221030T010000
END:STANDARD
BEGIN:DAYLIGHT
TZOFFSETFROM:+0000
TZOFFSETTO:+0100
TZNAME:BST
DTSTART:20230326T010000
END:DAYLIGHT
BEGIN:STANDARD
TZOFFSETFROM:+0100
TZOFFSETTO:+0000
TZNAME:GMT
DTSTART:20231029T010000
END:STANDARD
BEGIN:DAYLIGHT
TZOFFSETFROM:+0000
TZOFFSETTO:+0100
TZNAME:BST
DTSTART:20240331T010000
END:DAYLIGHT
BEGIN:STANDARD
TZOFFSETFROM:+0100
TZOFFSETTO:+0000
TZNAME:GMT
DTSTART:20241027T010000
END:STANDARD
END:VTIMEZONE
BEGIN:VEVENT
DTSTART;TZID=Europe/London:20231106T230000
DTEND;TZID=Europe/London:20231107T030000
DTSTAMP:20260421T213115
CREATED:20231101T132045Z
LAST-MODIFIED:20231101T132045Z
UID:10000380-1699311600-1699326000@www.nicensleazy.com
SUMMARY:SLEAZY KARAOKE
DESCRIPTION:SLEAZY KARAOKE [23.00 – 03.00] \nThis one is just for fun. Pure fun.
URL:https://www.nicensleazy.com/event/sleazy-karaoke-19
CATEGORIES:Basement,Club
ATTACH;FMTTYPE=image/jpeg:https://www.nicensleazy.com/wp-content/uploads/2023/11/image_6483441-4.jpg
END:VEVENT
BEGIN:VEVENT
DTSTART;TZID=Europe/London:20231107T230000
DTEND;TZID=Europe/London:20231108T030000
DTSTAMP:20260421T213115
CREATED:20231101T142451Z
LAST-MODIFIED:20231101T142451Z
UID:10000392-1699398000-1699412400@www.nicensleazy.com
SUMMARY:SWAG FUNDRAISER
DESCRIPTION:Successful Women at Glasgow have joined forces with Apollo Promotions and FemmeDM for a groovy disco night for a great cause! Come dance!
URL:https://www.nicensleazy.com/event/swag-fundraiser
CATEGORIES:Basement,Club
ATTACH;FMTTYPE=image/jpeg:https://www.nicensleazy.com/wp-content/uploads/2023/11/Updated-Darc-Poster-1.jpg
END:VEVENT
BEGIN:VEVENT
DTSTART;TZID=Europe/London:20231110T233000
DTEND;TZID=Europe/London:20231111T030000
DTSTAMP:20260421T213115
CREATED:20231109T001122Z
LAST-MODIFIED:20231109T001122Z
UID:10000408-1699659000-1699671600@www.nicensleazy.com
SUMMARY:CLUB- PRECIOUS NOTHING W/ ADAMANTINE CHAINS
DESCRIPTION:Back in the basement for another round of bangers\, SiRo invites fellow Sleazy’s club titan Adamantine Chains to sling records side by side in glorious harmony. \nThere will be house\, new beat\, post-punk\, techno\, The Hits\, curveballs\, and one more tune. \n*Bardcore by request.
URL:https://www.nicensleazy.com/event/club-precious-nothing-w-adamantine-chains
CATEGORIES:Basement,Club
ATTACH;FMTTYPE=image/png:https://www.nicensleazy.com/wp-content/uploads/2023/11/simon-poster.png
END:VEVENT
BEGIN:VEVENT
DTSTART;TZID=Europe/London:20231113T230000
DTEND;TZID=Europe/London:20231114T030000
DTSTAMP:20260421T213115
CREATED:20231101T132118Z
LAST-MODIFIED:20231101T132118Z
UID:10000381-1699916400-1699930800@www.nicensleazy.com
SUMMARY:SLEAZY KARAOKE
DESCRIPTION:SLEAZY KARAOKE [23.00 – 03.00] \nThis one is just for fun. Pure fun.
URL:https://www.nicensleazy.com/event/sleazy-karaoke-20
CATEGORIES:Basement,Club
ATTACH;FMTTYPE=image/jpeg:https://www.nicensleazy.com/wp-content/uploads/2023/11/image_6483441-4.jpg
END:VEVENT
BEGIN:VEVENT
DTSTART;TZID=Europe/London:20231115T230000
DTEND;TZID=Europe/London:20231116T030000
DTSTAMP:20260421T213115
CREATED:20231109T002115Z
LAST-MODIFIED:20231109T002115Z
UID:10000409-1700089200-1700103600@www.nicensleazy.com
SUMMARY:CLUB- INTUITION
DESCRIPTION:Get ready\, Glasgow! Intuition Glasgow is thrilled to announce an unforgettable night of music and dance at Nice n Sleazy. \nJoin us as we curate a unique sonic experience that’s sure to have you grooving all night long. Our line-up features our very own resident DJs\, known for their unmatchable energy and eclectic styles\, alongside some fresh faces making waves in the Glasgow music scene. \nOur music policy for the night is a vibrant mix of Disco beats\, UK garage/bass rhythms\, and transcendental trance vibes. No matter what your preferred genre\, we’ve got something for you. \nTickets are just £3 for students\, NHS\, or trade staff with ID. For all our other wonderful guests\, general admission is a steal at £5. \nDon’t miss out on the chance to experience the best of Glasgow’s music scene in one of the city’s most beloved venues. Grab your tickets now and let’s dance the night away!
URL:https://www.nicensleazy.com/event/club-intuition-2
CATEGORIES:Basement,Club
ATTACH;FMTTYPE=image/webp:https://www.nicensleazy.com/wp-content/uploads/2023/11/57f035edb387d26cda00101964cd1acac665ed4b.webp
END:VEVENT
BEGIN:VEVENT
DTSTART;TZID=Europe/London:20231116T233000
DTEND;TZID=Europe/London:20231117T030000
DTSTAMP:20260421T213115
CREATED:20231104T202430Z
LAST-MODIFIED:20231104T202430Z
UID:10000407-1700177400-1700190000@www.nicensleazy.com
SUMMARY:CLUB- FILTHY STITCH
DESCRIPTION:GSA Textile Design presents Filthy Stitch featuring FemmeDM. \nHelp out in fundraising for our exhibition at New Designers in London next summer! \nWe are joined by three incredibly talented DJs: Neev\, Cframe and Diorwh0re who will ensure a stellar night of hard groove\, garage\, and techno. \n16/11\, Nice N Sleazy\, don’t wanna miss it
URL:https://www.nicensleazy.com/event/club-filthy-stitch
CATEGORIES:Basement,Club
ATTACH;FMTTYPE=image/webp:https://www.nicensleazy.com/wp-content/uploads/2023/11/9e1485b180cf0fab0bed4cafa88ead5ecde1945f.webp
END:VEVENT
BEGIN:VEVENT
DTSTART;TZID=Europe/London:20231118T230000
DTEND;TZID=Europe/London:20231119T030000
DTSTAMP:20260421T213115
CREATED:20231109T003551Z
LAST-MODIFIED:20231109T003551Z
UID:10000410-1700348400-1700362800@www.nicensleazy.com
SUMMARY:CLUB- UNDERDOG 4
DESCRIPTION:Fourth instalment of DEATHWISH’s “Underdog” alternative club night at Nice n Sleazy. \n  \nEmo / Pop punk / Alternative
URL:https://www.nicensleazy.com/event/club-underdog-4
CATEGORIES:Basement,Club
ATTACH;FMTTYPE=image/webp:https://www.nicensleazy.com/wp-content/uploads/2023/11/8f06e973ef17ac6aa0142d5cd75c8bda6da7b13f.webp
END:VEVENT
BEGIN:VEVENT
DTSTART;TZID=Europe/London:20231120T230000
DTEND;TZID=Europe/London:20231121T030000
DTSTAMP:20260421T213115
CREATED:20231101T132201Z
LAST-MODIFIED:20231101T132201Z
UID:10000382-1700521200-1700535600@www.nicensleazy.com
SUMMARY:SLEAZY KARAOKE
DESCRIPTION:SLEAZY KARAOKE [23.00 – 03.00] \nThis one is just for fun. Pure fun.
URL:https://www.nicensleazy.com/event/sleazy-karaoke-21
CATEGORIES:Basement,Club
ATTACH;FMTTYPE=image/jpeg:https://www.nicensleazy.com/wp-content/uploads/2023/11/image_6483441-4.jpg
END:VEVENT
BEGIN:VEVENT
DTSTART;TZID=Europe/London:20231123T230000
DTEND;TZID=Europe/London:20231124T030000
DTSTAMP:20260421T213115
CREATED:20231121T142756Z
LAST-MODIFIED:20231121T142756Z
UID:10000423-1700780400-1700794800@www.nicensleazy.com
SUMMARY:CLUB- TECHNO THURSDAYS X WAREHAUS
DESCRIPTION:WAREHAUS X TECHNO THURSDAYS ROUND 2 \nWe will be joining forces to take over Nice n Sleazys to host our 2nd Thursday night student techno night. \nJoining us we have PRESTØN and BRADLEY UNDERGROUND who will be keeping the dance floor grooving all night long. \nExpect Hard Groove\, Techno\, Detroit.
URL:https://www.nicensleazy.com/event/club-techno-thursdays-x-warehaus-2
CATEGORIES:Basement,Club
ATTACH;FMTTYPE=image/webp:https://www.nicensleazy.com/wp-content/uploads/2023/11/f02b227dbcbb46ddea770bf902c995bf96616253.webp
END:VEVENT
BEGIN:VEVENT
DTSTART;TZID=Europe/London:20231124T230000
DTEND;TZID=Europe/London:20231125T030000
DTSTAMP:20260421T213115
CREATED:20231121T142933Z
LAST-MODIFIED:20231121T142933Z
UID:10000424-1700866800-1700881200@www.nicensleazy.com
SUMMARY:CLUB- BOOTYCALL
DESCRIPTION:If they’re calling you at 11pm on a Friday night\, they’re trying to get into your dancing pants. \nLet’s Be honest. They want a Bootycall at nice n sleazys No strings attached. \n24.11.23 Bootycall presents T.D.Slider and Carmen Baía \nA night full of sexy bangers\, breaks\, baile funk\, R&B\, house\, edits\, jungle\, UKG\, electro\, ghetto tech\, club\, dancehall\, disco. \nAll the goodies xx
URL:https://www.nicensleazy.com/event/club-bootycall-2
CATEGORIES:Basement,Club
END:VEVENT
BEGIN:VEVENT
DTSTART;TZID=Europe/London:20231125T230000
DTEND;TZID=Europe/London:20231126T040000
DTSTAMP:20260421T213115
CREATED:20230920T103928Z
LAST-MODIFIED:20231121T145850Z
UID:10000306-1700953200-1700971200@www.nicensleazy.com
SUMMARY:CLUB- LANCE VANCE DANCE
DESCRIPTION:Saturday night fever baby and it’s the Lance Vance Dance! Action. Disco. Romance. You know the score\, let’s boogie! \nON TIL 4AM
URL:https://www.nicensleazy.com/event/club-lance-vance-dance
CATEGORIES:Basement,Club
ATTACH;FMTTYPE=image/jpeg:https://www.nicensleazy.com/wp-content/uploads/2023/09/IMG_0566.jpg
END:VEVENT
BEGIN:VEVENT
DTSTART;TZID=Europe/London:20231127T230000
DTEND;TZID=Europe/London:20231128T030000
DTSTAMP:20260421T213115
CREATED:20231101T132238Z
LAST-MODIFIED:20231101T132238Z
UID:10000383-1701126000-1701140400@www.nicensleazy.com
SUMMARY:SLEAZY KARAOKE
DESCRIPTION:SLEAZY KARAOKE [23.00 – 03.00] \nThis one is just for fun. Pure fun.
URL:https://www.nicensleazy.com/event/sleazy-karaoke-22
CATEGORIES:Basement,Club
ATTACH;FMTTYPE=image/jpeg:https://www.nicensleazy.com/wp-content/uploads/2023/11/image_6483441-4.jpg
END:VEVENT
BEGIN:VEVENT
DTSTART;TZID=Europe/London:20231130T230000
DTEND;TZID=Europe/London:20231201T030000
DTSTAMP:20260421T213115
CREATED:20231129T144631Z
LAST-MODIFIED:20231129T144631Z
UID:10000428-1701385200-1701399600@www.nicensleazy.com
SUMMARY:FUSE LAUNCH PARTY
DESCRIPTION:FUSE LAUNCH PARTY. \nGUM’s upcoming print launch\, Fuse\, explores the connections between people and communities that keep the world moving. To celebrate the launch\, we’re hosting a party where connections on the dance floor will be limitless!\nWith music from Glasgow’s very own Joey Name\, Glory-B and Lekcr\, you can expect a fusion of jungle\, house\, drums\, funky sounds and Latin vibes. \nFind us at NiceNSleazy on the 30th of November from 11:30pm for some good vibrations! \nYou can grab tickets for £5 from the link in our bio or on the door! \nSee you there
URL:https://www.nicensleazy.com/event/fuse-launch-party
CATEGORIES:Basement,Club
ATTACH;FMTTYPE=image/jpeg:https://www.nicensleazy.com/wp-content/uploads/2023/11/Web-capture_29-11-2023_144618_www.glasgowunisrc.org_.jpeg
END:VEVENT
END:VCALENDAR