BEGIN:VCALENDAR
VERSION:2.0
PRODID:-//NiceNSleazy - ECPv6.15.20//NONSGML v1.0//EN
CALSCALE:GREGORIAN
METHOD:PUBLISH
X-WR-CALNAME:NiceNSleazy
X-ORIGINAL-URL:https://www.nicensleazy.com
X-WR-CALDESC:Events for NiceNSleazy
REFRESH-INTERVAL;VALUE=DURATION:PT1H
X-Robots-Tag:noindex
X-PUBLISHED-TTL:PT1H
BEGIN:VTIMEZONE
TZID:Europe/London
BEGIN:DAYLIGHT
TZOFFSETFROM:+0000
TZOFFSETTO:+0100
TZNAME:BST
DTSTART:20220327T010000
END:DAYLIGHT
BEGIN:STANDARD
TZOFFSETFROM:+0100
TZOFFSETTO:+0000
TZNAME:GMT
DTSTART:20221030T010000
END:STANDARD
BEGIN:DAYLIGHT
TZOFFSETFROM:+0000
TZOFFSETTO:+0100
TZNAME:BST
DTSTART:20230326T010000
END:DAYLIGHT
BEGIN:STANDARD
TZOFFSETFROM:+0100
TZOFFSETTO:+0000
TZNAME:GMT
DTSTART:20231029T010000
END:STANDARD
BEGIN:DAYLIGHT
TZOFFSETFROM:+0000
TZOFFSETTO:+0100
TZNAME:BST
DTSTART:20240331T010000
END:DAYLIGHT
BEGIN:STANDARD
TZOFFSETFROM:+0100
TZOFFSETTO:+0000
TZNAME:GMT
DTSTART:20241027T010000
END:STANDARD
END:VTIMEZONE
BEGIN:VEVENT
DTSTART;TZID=Europe/London:20231001T233000
DTEND;TZID=Europe/London:20231002T030000
DTSTAMP:20260421T231806
CREATED:20230928T125652Z
LAST-MODIFIED:20230928T125652Z
UID:10000340-1696203000-1696215600@www.nicensleazy.com
SUMMARY:CLUB- FRENCH TOUCH
DESCRIPTION:French Touch comes to the Nice n’ Sleazy basement. \nWe welcome Disco Dons MAL.K and Rory Mclaren into the fold with influences of French house and Disco house. \nAlso working the 1’s and 2’s beforehand will be Boydie b2b with Flair as well the Pharsyde boys – be sure to get down early and see them work their magic.
URL:https://www.nicensleazy.com/event/club-french-touch
CATEGORIES:Basement,Club
ATTACH;FMTTYPE=image/jpeg:https://www.nicensleazy.com/wp-content/uploads/2023/09/image0-4.jpeg
END:VEVENT
BEGIN:VEVENT
DTSTART;TZID=Europe/London:20231002T200000
DTEND;TZID=Europe/London:20231002T230000
DTSTAMP:20260421T231806
CREATED:20230921T182635Z
LAST-MODIFIED:20230921T182635Z
UID:10000314-1696276800-1696287600@www.nicensleazy.com
SUMMARY:SLEAZY KARAOKE
DESCRIPTION:SLEAZY KARAOKE [23.00 – 03.00] \nThis one is just for fun. Pure fun.
URL:https://www.nicensleazy.com/event/sleazy-karaoke-14
CATEGORIES:Basement,Club
ATTACH;FMTTYPE=image/png:https://www.nicensleazy.com/wp-content/uploads/2023/07/My-Boo-1.png
END:VEVENT
BEGIN:VEVENT
DTSTART;TZID=Europe/London:20231005T233000
DTEND;TZID=Europe/London:20231006T030000
DTSTAMP:20260421T231806
CREATED:20230928T132934Z
LAST-MODIFIED:20230928T132934Z
UID:10000341-1696548600-1696561200@www.nicensleazy.com
SUMMARY:CLUB- HOUSEPLANTS 005
DESCRIPTION:Houseplants returns to the basement of Nice N Sleazy! \n  \nLineup: \nleo \nC-Ben \nGreen like the Colour \nStereo Check-Out
URL:https://www.nicensleazy.com/event/club-houseplants-005
CATEGORIES:Basement,Club
ATTACH;FMTTYPE=image/webp:https://www.nicensleazy.com/wp-content/uploads/2023/09/HOUSEPLANTS.webp
END:VEVENT
BEGIN:VEVENT
DTSTART;TZID=Europe/London:20231006T233000
DTEND;TZID=Europe/London:20231007T030000
DTSTAMP:20260421T231806
CREATED:20230929T162418Z
LAST-MODIFIED:20230929T162418Z
UID:10000343-1696635000-1696647600@www.nicensleazy.com
SUMMARY:CLUB- UNDERDOG
DESCRIPTION:Come cheer for sweet revenge at the 3rd instalment of Glasgow’s newest alternative club night Underdog. \n  \nEMO/POP PUNK/ALT
URL:https://www.nicensleazy.com/event/club-underdog
CATEGORIES:Basement,Club
ATTACH;FMTTYPE=image/webp:https://www.nicensleazy.com/wp-content/uploads/2023/09/UNDERDOG.webp
END:VEVENT
BEGIN:VEVENT
DTSTART;TZID=Europe/London:20231007T233000
DTEND;TZID=Europe/London:20231008T030000
DTSTAMP:20260421T231806
CREATED:20230928T160214Z
LAST-MODIFIED:20230928T160310Z
UID:10000342-1696721400-1696734000@www.nicensleazy.com
SUMMARY:CLUB UPRISING
DESCRIPTION:Charity club night for Urban Uprising. \nA charity that elevate and inspire young people through climbing. £6 cash on the door. \nAll proceeds to to Urban Uprising. \nUpstairs: Bessa B2B DJ Uncomfortable \nDownstairs: Ewan Jams\, Sam Scrvn\, Uncle Lucien Sanchez
URL:https://www.nicensleazy.com/event/club-uprising
CATEGORIES:Bar,Basement,Club
ATTACH;FMTTYPE=image/webp:https://www.nicensleazy.com/wp-content/uploads/2023/09/UPRISING.webp
END:VEVENT
BEGIN:VEVENT
DTSTART;TZID=Europe/London:20231009T230000
DTEND;TZID=Europe/London:20231010T030000
DTSTAMP:20260421T231806
CREATED:20230921T182734Z
LAST-MODIFIED:20230921T182734Z
UID:10000315-1696892400-1696906800@www.nicensleazy.com
SUMMARY:SLEAZY KARAOKE
DESCRIPTION:SLEAZY KARAOKE [23.00 – 03.00] \nThis one is just for fun. Pure fun.
URL:https://www.nicensleazy.com/event/sleazy-karaoke-15
CATEGORIES:Basement,Club
ATTACH;FMTTYPE=image/png:https://www.nicensleazy.com/wp-content/uploads/2023/07/My-Boo-1.png
END:VEVENT
BEGIN:VEVENT
DTSTART;TZID=Europe/London:20231013T230000
DTEND;TZID=Europe/London:20231014T030000
DTSTAMP:20260421T231806
CREATED:20231010T120916Z
LAST-MODIFIED:20231010T120916Z
UID:10000353-1697238000-1697252400@www.nicensleazy.com
SUMMARY:CLUB- ANDREW THOMPSON (HUNTLEYS + PALMERS)
DESCRIPTION:International Party Starters by Huntleys + Palmers main man Andrew Thomson
URL:https://www.nicensleazy.com/event/club-andrew-thompson-huntleys-palmers
CATEGORIES:Basement,Club
ATTACH;FMTTYPE=image/jpeg:https://www.nicensleazy.com/wp-content/uploads/2023/10/IMG_0268.jpg
END:VEVENT
BEGIN:VEVENT
DTSTART;TZID=Europe/London:20231014T230000
DTEND;TZID=Europe/London:20231015T030000
DTSTAMP:20260421T231806
CREATED:20231010T121525Z
LAST-MODIFIED:20231010T121541Z
UID:10000355-1697324400-1697338800@www.nicensleazy.com
SUMMARY:CLUB- HOT FAT
DESCRIPTION:fantastic man presents HOT FAT \nslimy and tasty
URL:https://www.nicensleazy.com/event/club-hot-fat-3
CATEGORIES:Basement,Club
ATTACH;FMTTYPE=image/webp:https://www.nicensleazy.com/wp-content/uploads/2023/10/6140bc0bc9007d73fdf5e338f334131e16f06270.webp
END:VEVENT
BEGIN:VEVENT
DTSTART;TZID=Europe/London:20231020T230000
DTEND;TZID=Europe/London:20231021T030000
DTSTAMP:20260421T231806
CREATED:20231020T151009Z
LAST-MODIFIED:20231020T151009Z
UID:10000356-1697842800-1697857200@www.nicensleazy.com
SUMMARY:CLUB- ROSEHIPS & HU-SANE
DESCRIPTION:beyond excited to share the decks with Hu-Sane this month at Sleazys 🙂 \nexpect garage\, baile funk and jersey club and house! \nneed convinced? \nCheck our Hu-Sane’s insane mixes + productions below ⬇️⬇️⬇️
URL:https://www.nicensleazy.com/event/club-rosehips-hu-sane
CATEGORIES:Basement,Club
ATTACH;FMTTYPE=image/webp:https://www.nicensleazy.com/wp-content/uploads/2023/10/3e628e5fc59ec034a795cc712cf8f1001b47fbdf.webp
END:VEVENT
BEGIN:VEVENT
DTSTART;TZID=Europe/London:20231023T230000
DTEND;TZID=Europe/London:20231024T030000
DTSTAMP:20260421T231806
CREATED:20230921T182949Z
LAST-MODIFIED:20230921T182949Z
UID:10000317-1698102000-1698116400@www.nicensleazy.com
SUMMARY:SLEAZY KARAOKE
DESCRIPTION:SLEAZY KARAOKE [23.00 – 03.00] \nThis one is just for fun. Pure fun.
URL:https://www.nicensleazy.com/event/sleazy-karaoke-17
CATEGORIES:Basement,Club
ATTACH;FMTTYPE=image/png:https://www.nicensleazy.com/wp-content/uploads/2023/07/My-Boo-1.png
END:VEVENT
BEGIN:VEVENT
DTSTART;TZID=Europe/London:20231026T230000
DTEND;TZID=Europe/London:20231027T030000
DTSTAMP:20260421T231806
CREATED:20231020T153133Z
LAST-MODIFIED:20231020T153133Z
UID:10000359-1698361200-1698375600@www.nicensleazy.com
SUMMARY:CLUB- TECHNO THURSDAYS X WAREHAUS
DESCRIPTION:WAREHAUS X TECHNO THURSDAYS \nWe will be joining forces to take over Nice n Sleazys to host a Thursday night student techno night. \nJoining us we have PRESTØN and BRADLEY UNDERGROUND who will be keeping the dance floor grooving all night long. \nExpect Hard Groove\, Techno\, Detroit.
URL:https://www.nicensleazy.com/event/club-techno-thursdays-x-warehaus
CATEGORIES:Basement,Club
ATTACH;FMTTYPE=image/webp:https://www.nicensleazy.com/wp-content/uploads/2023/10/e985eba11a4de298f9bee06630ec450b3f478a5f.webp
END:VEVENT
BEGIN:VEVENT
DTSTART;TZID=Europe/London:20231027T230000
DTEND;TZID=Europe/London:20231028T030000
DTSTAMP:20260421T231806
CREATED:20231020T153730Z
LAST-MODIFIED:20231020T153730Z
UID:10000360-1698447600-1698462000@www.nicensleazy.com
SUMMARY:CLUB- FLOORSHOW WITH ANNABEL FRASER
DESCRIPTION:“Pagan playing in the flashing light In the violet hour to the violent sound”  \n27th October 11pm – Late Annabel Fraser (NTS / MIRE) \nGraveyard Shift – Gothic requiems\, synth pop oddities and industrial murk for night dwellers. \nNice N Sleazy 421 Sauchiehall St \n£5 OTD (Free before 11)
URL:https://www.nicensleazy.com/event/club-floorshow-with-annabel-fraser
CATEGORIES:Basement,Club
END:VEVENT
BEGIN:VEVENT
DTSTART;TZID=Europe/London:20231030T230000
DTEND;TZID=Europe/London:20231031T030000
DTSTAMP:20260421T231806
CREATED:20230921T183208Z
LAST-MODIFIED:20230921T183208Z
UID:10000318-1698706800-1698721200@www.nicensleazy.com
SUMMARY:SLEAZY KARAOKE
DESCRIPTION:SLEAZY KARAOKE [23.00 – 03.00] \nThis one is just for fun. Pure fun.
URL:https://www.nicensleazy.com/event/sleazy-karaoke-18
CATEGORIES:Basement,Club
ATTACH;FMTTYPE=image/png:https://www.nicensleazy.com/wp-content/uploads/2023/07/My-Boo-1.png
END:VEVENT
END:VCALENDAR