BEGIN:VCALENDAR
VERSION:2.0
PRODID:-//NiceNSleazy - ECPv6.15.20//NONSGML v1.0//EN
CALSCALE:GREGORIAN
METHOD:PUBLISH
X-ORIGINAL-URL:https://www.nicensleazy.com
X-WR-CALDESC:Events for NiceNSleazy
REFRESH-INTERVAL;VALUE=DURATION:PT1H
X-Robots-Tag:noindex
X-PUBLISHED-TTL:PT1H
BEGIN:VTIMEZONE
TZID:Europe/London
BEGIN:DAYLIGHT
TZOFFSETFROM:+0000
TZOFFSETTO:+0100
TZNAME:BST
DTSTART:20240331T010000
END:DAYLIGHT
BEGIN:STANDARD
TZOFFSETFROM:+0100
TZOFFSETTO:+0000
TZNAME:GMT
DTSTART:20241027T010000
END:STANDARD
BEGIN:DAYLIGHT
TZOFFSETFROM:+0000
TZOFFSETTO:+0100
TZNAME:BST
DTSTART:20250330T010000
END:DAYLIGHT
BEGIN:STANDARD
TZOFFSETFROM:+0100
TZOFFSETTO:+0000
TZNAME:GMT
DTSTART:20251026T010000
END:STANDARD
BEGIN:DAYLIGHT
TZOFFSETFROM:+0000
TZOFFSETTO:+0100
TZNAME:BST
DTSTART:20260329T010000
END:DAYLIGHT
BEGIN:STANDARD
TZOFFSETFROM:+0100
TZOFFSETTO:+0000
TZNAME:GMT
DTSTART:20261025T010000
END:STANDARD
END:VTIMEZONE
BEGIN:VEVENT
DTSTART;TZID=Europe/London:20250516T193000
DTEND;TZID=Europe/London:20250516T230000
DTSTAMP:20260421T134620
CREATED:20250502T105401Z
LAST-MODIFIED:20250502T105411Z
UID:10003182-1747423800-1747436400@www.nicensleazy.com
SUMMARY:BRAW & UNCUT MAY
DESCRIPTION:The juices are already well and truly flowing for our next edition of #BrawAndUncut in May!
URL:https://www.nicensleazy.com/event/braw-uncut-may-2
CATEGORIES:Gig
ATTACH;FMTTYPE=image/png:https://www.nicensleazy.com/wp-content/uploads/2025/05/Screenshot-2025-05-02-at-11.52.29.png
END:VEVENT
BEGIN:VEVENT
DTSTART;TZID=Europe/London:20250516T193000
DTEND;TZID=Europe/London:20250516T230000
DTSTAMP:20260421T134620
CREATED:20250510T133743Z
LAST-MODIFIED:20250510T133743Z
UID:10003200-1747423800-1747436400@www.nicensleazy.com
SUMMARY:Braw and Uncut
DESCRIPTION:Get up close and personal with an in-the-round experience of raw\, risque and raunchy cabaret at Nice N Sleazy! \nFeaturing an exclusive line-up of Scottish dance\, drag\, variety and burlesque performers. \nSeats are limited so come early to reserve your spot in the splash zone.
URL:https://www.nicensleazy.com/event/braw-and-uncut
CATEGORIES:Club,Gig
ATTACH;FMTTYPE=image/png:https://www.nicensleazy.com/wp-content/uploads/2025/05/Screenshot-2025-05-10-at-14.35.03.png
END:VEVENT
BEGIN:VEVENT
DTSTART;TZID=Europe/London:20250516T230000
DTEND;TZID=Europe/London:20250517T030000
DTSTAMP:20260421T134620
CREATED:20250502T105743Z
LAST-MODIFIED:20250502T105748Z
UID:10003183-1747436400-1747450800@www.nicensleazy.com
SUMMARY:HOLLY CALDER
DESCRIPTION:back on the decks!!
URL:https://www.nicensleazy.com/event/holly-calder-4
CATEGORIES:Bar
END:VEVENT
BEGIN:VEVENT
DTSTART;TZID=Europe/London:20250516T230000
DTEND;TZID=Europe/London:20250517T030000
DTSTAMP:20260421T134620
CREATED:20250502T105938Z
LAST-MODIFIED:20250502T105938Z
UID:10003184-1747436400-1747450800@www.nicensleazy.com
SUMMARY:DISCOUNT DISCO
DESCRIPTION:Discount Disco. Two seasoned song connossieurs causing a scene in G-town for a few years now. House\, disco\, nu-disco and the occasional cheesy pop banger to keep your pal dancing. Tech house\, techno or trance\, anyone? Our variety is class A. We keep it funky. Wall to wall fillers\, good vibes and two dudes rocking questionable threads that you wish you had. No requests.\nThe smoke machine is an art form. It’s pumping harder than the bassline with our vapes providing extra flavour. Secret guests with improptu mystery sets to keep things fresh (but only if your dance moves follow suit). Winching not only allowed\, it’s encouraged. Come for the beats. Stay for the vibes. Leave with stories you’ll have to explain in the group chat tomorrow morning.
URL:https://www.nicensleazy.com/event/discount-disco-9
CATEGORIES:Club
ATTACH;FMTTYPE=image/png:https://www.nicensleazy.com/wp-content/uploads/2025/03/Screenshot-2025-03-26-at-17.59.53.png
END:VEVENT
BEGIN:VEVENT
DTSTART;TZID=Europe/London:20250516T230000
DTEND;TZID=Europe/London:20250517T030000
DTSTAMP:20260421T134620
CREATED:20250510T134047Z
LAST-MODIFIED:20250510T134047Z
UID:10003201-1747436400-1747450800@www.nicensleazy.com
SUMMARY:Discount Disco
DESCRIPTION:Discount Disco. Two seasoned song connossieurs causing a scene in G-town for a few years now. House\, disco\, nu-disco and the occasional cheesy pop banger to keep your pal dancing. Tech house\, techno or trance\, anyone? Our variety is class A. We keep it funky. Wall to wall fillers\, good vibes and two dudes rocking questionable threads that you wish you had. No requests.\nThe smoke machine is an art form. It’s pumping harder than the bassline with our vapes providing extra flavour. Secret guests with improptu mystery sets to keep things fresh (but only if your dance moves follow suit). Winching not only allowed\, it’s encouraged. Come for the beats. Stay for the vibes. Leave with stories you’ll have to explain in the group chat tomorrow morning.
URL:https://www.nicensleazy.com/event/discount-disco-10
CATEGORIES:Basement,Club
ATTACH;FMTTYPE=image/png:https://www.nicensleazy.com/wp-content/uploads/2025/05/Screenshot-2025-05-10-at-14.39.35.png
END:VEVENT
BEGIN:VEVENT
DTSTART;TZID=Europe/London:20250516T230000
DTEND;TZID=Europe/London:20250517T030000
DTSTAMP:20260421T134620
CREATED:20250510T134456Z
LAST-MODIFIED:20250510T134456Z
UID:10003202-1747436400-1747450800@www.nicensleazy.com
SUMMARY:Holly Calder
DESCRIPTION:Holly Calder\, co founder of both Freakender and Anna & Holly’s Dance Party\, will be back at the bar on the 16th of May\, playing a selection of psychedelic and garage rock from the 1960s to present day\, with a healthy dose of 60s R&B and soul music and a few surprises in between for good measure.
URL:https://www.nicensleazy.com/event/holly-calder-5
CATEGORIES:Bar,Club
END:VEVENT
END:VCALENDAR